BEGIN:VCALENDAR
VERSION:2.0
PRODID:-//wp-events-plugin.com//7.2.3.1//EN
TZID:America/New_York
X-WR-TIMEZONE:America/New_York
BEGIN:VEVENT
UID:48@priority2work.org
DTSTART;TZID=America/New_York:20250923T190000
DTEND;TZID=America/New_York:20250923T203000
DTSTAMP:20250829T153806Z
URL:https://priority2work.org/events/career-connections-networking-learnin
 g-and-growing-together/
SUMMARY:Career Connections: networking\, learning\, and growing together!
DESCRIPTION:Get ready to boost your career connections at Priority 2 Work -
  networking\, learning\, and growing together!\n\nThere is no cost to regi
 ster\, but please do save your spot so we know you're coming!  Register 
 now.at this link https://tinyurl.com/3xf3mr4r\n\nLearn about our FREE ski
 lls training:\n\n 	Job search strategy\n\n\n 	Self-assessment\n\n\n 	Story
 telling for Resumes &amp\; Cover Letters\n\n\n 	Interviewing Prep\n\n\n 	N
 etworking\n\n\n 	Career Resilience\n\nMeet with Career Mentors &amp\; Loca
 l Employer Reps\n\nWhere: Saint Mark the Evangelist Parish - Saint Kilian 
 Church\, 7076 Franklin Road\, Cranberry Township\, PA 16066\, Church Hall 
 - Lower Level
CATEGORIES:Career Connections Networking
LOCATION:https://www.google.com/maps/place/Saint+Mark+the+Evangelist+Parish
 +-+Saint+Kilian+Church/@40.6842405,-80.0730638,656m/data=!3m2!1e3!4b1!4m6!
 3m5!1s0x88348872c080ff45:0x914e623d365f31e4!8m2!3d40.6842365!4d-80.0704889
 !16s%2Fg%2F11cr_fwmqs?hl=en&entry=ttu&g_ep=EgoyMDI1MDgyNS4wIKXMDSoASAFQAw%
 3D%3D
END:VEVENT
BEGIN:VTIMEZONE
TZID:America/New_York
X-LIC-LOCATION:America/New_York
BEGIN:DAYLIGHT
DTSTART:20250309T030000
TZOFFSETFROM:-0500
TZOFFSETTO:-0400
TZNAME:EDT
END:DAYLIGHT
END:VTIMEZONE
END:VCALENDAR