BEGIN:VCALENDAR
VERSION:2.0
PRODID:-//wp-events-plugin.com//7.2.3.1//EN
TZID:America/New_York
X-WR-TIMEZONE:America/New_York
BEGIN:VEVENT
UID:102@priority2work.org
DTSTART;TZID=America/New_York:20260324T190000
DTEND;TZID=America/New_York:20260324T203000
DTSTAMP:20260221T140221Z
URL:https://priority2work.org/events/career-connections/
SUMMARY:Career Connections
DESCRIPTION:Register at &gt\;&gt\;&gt\; Career Connections FREE Registratio
 n\n\nReady to boost your career? Priority 2 Work: Career Connections is 
 an in-person event where you can network\, learn\, and get inspired. Mee
 t industry pros\, discover new opportunities\, and make valuable connectio
 ns to jumpstart your professional journey. Don’t miss out on this chance
  to take your career to the next level!\n\nPriority2Work is an all-volunte
 er\, faith-centered nonprofit that helps job seekers gain key skills neede
 d to secure their next position or begin a new career.\n\n 	Learn about ou
 r FREE skills training:\n 	Job search strategy\n 	Self-assessment\n 	Story
 telling for Resumes &amp\; Cover Letters\n 	Interviewing Prep\n 	Networkin
 g\n 	Career Resilience\n\nThere is no cost to attend\, but please do regis
 ter so we know you're coming!\n\nWhere: Saint Kilian Church - Saint Mark t
 he Evangelist Parish\, lower-level church hall\, 7076 Franklin Road\, Cra
 nberry Township\, PA 16066\n\nWhen:  7:00 - 8:30pm\, Tuesday March 24\, 2
 026
CATEGORIES:Career Connections Networking
END:VEVENT
BEGIN:VTIMEZONE
TZID:America/New_York
X-LIC-LOCATION:America/New_York
BEGIN:DAYLIGHT
DTSTART:20260308T030000
TZOFFSETFROM:-0500
TZOFFSETTO:-0400
TZNAME:EDT
END:DAYLIGHT
END:VTIMEZONE
END:VCALENDAR