BEGIN:VCALENDAR
VERSION:2.0
PRODID:-//wp-events-plugin.com//7.2.3.1//EN
TZID:America/New_York
X-WR-TIMEZONE:America/New_York
BEGIN:VEVENT
UID:80@priority2work.org
DTSTART;TZID=America/New_York:20260410T090000
DTEND;TZID=America/New_York:20260410T103000
DTSTAMP:20260103T140531Z
URL:https://priority2work.org/events/coffee-with-hope-in-person-2nd-fri-20
 26-2026-04-10/
SUMMARY:Coffee with HOPE in-person 2nd Fri 9:00AM 2026
DESCRIPTION:Considering a career transition or searching for suitable emp
 loyment?\n\nPriority2Work is a faith-centered\, volunteer-led non-profit 
 organization providing in-person and virtual job search skills training\,
  mentorship and networking.  Serving Western PA for 40 years!  No charge
  for our services.\n\nWe meet the 2nd Friday of each month at 9 a.m. Wes
 tminster Church\, Room 176.  Enter Door 20 “Fellowship Hall” at the 
 back side (away from Route 19).\n\nPlease stop by and see how we can assi
 st you in your job search efforts.  NO REGISTRATION REQUIRED.
CATEGORIES:COFFEE WITH HOPE
LOCATION:Westminster Church\,  2040 Washington Road \, Pittsburgh\, PA\, 15
 241\, Room 176\, United States
X-APPLE-STRUCTURED-LOCATION;VALUE=URI;X-ADDRESS= 2040 Washington Road \, Pi
 ttsburgh\, PA\, 15241\, Room 176\, United States;X-APPLE-RADIUS=100;X-TITL
 E=Westminster Church:geo:0,0
END:VEVENT
BEGIN:VTIMEZONE
TZID:America/New_York
X-LIC-LOCATION:America/New_York
BEGIN:DAYLIGHT
DTSTART:20260308T030000
TZOFFSETFROM:-0500
TZOFFSETTO:-0400
TZNAME:EDT
END:DAYLIGHT
END:VTIMEZONE
END:VCALENDAR