BEGIN:VCALENDAR
VERSION:2.0
PRODID:-//wp-events-plugin.com//7.2.3.1//EN
TZID:America/New_York
X-WR-TIMEZONE:America/New_York
BEGIN:VEVENT
UID:32@priority2work.org
DTSTART;TZID=America/New_York:20251203T083000
DTEND;TZID=America/New_York:20251203T100000
DTSTAMP:20250602T225536Z
URL:https://priority2work.org/events/coffee-with-hope-virtual-1st-wed-each
 -month-2025-12-03/
SUMMARY:Coffee with HOPE Virtual- 1st Wed each month
DESCRIPTION:Coffee with HOPE will provide you with a great opportunity to n
 etwork in a non-threatening\, ad-hoc manner with other job seekers and a s
 mall group of Priority2Work board members and volunteers.  It is held on 
 the 1st Wednesday of each month in the morning and the 3rd Thursday in the
  evening.  The agenda is open forum for job seekers to share experiences\
 , ask for advice\, gather ideas\, and support others in their search.\nPle
 ase pre-Register using the link below for the month / day in question:\n6/
 4: https://us02web.zoom.us/meeting/register/Ngnam2bYT9CW6PuaC4vI1A\n\n7/2
     https://us02web.zoom.us/meeting/register/L9aUns5zQGW-YGgg_29lKQ\n\n
 8/6: https://us02web.zoom.us/meeting/register/-P3-jxcXQ7SA_ZNl6Fuo4g\n\n9
 /3: https://us02web.zoom.us/meeting/register/zQu2XUJMSKuI2G3q6KIJxg\n\n10
 /1: https://us02web.zoom.us/meeting/register/9NTuRnQ8QcqMl62_RDlp-Q\n\n11
 /5: https://us02web.zoom.us/meeting/register/Wi919LJPReyPGJYAWq_Mfw\n\n12
 /3: https://us02web.zoom.us/meeting/register/iUE1FnQGRoqL0kyyxamo_g\n\n&n
 bsp\;
CATEGORIES:COFFEE WITH HOPE
LOCATION:Virtual\, online\, zoom\, pa\, United States
X-APPLE-STRUCTURED-LOCATION;VALUE=URI;X-ADDRESS=online\, zoom\, pa\, United
  States;X-APPLE-RADIUS=100;X-TITLE=Virtual:geo:0,0
END:VEVENT
BEGIN:VTIMEZONE
TZID:America/New_York
X-LIC-LOCATION:America/New_York
BEGIN:STANDARD
DTSTART:20251102T010000
TZOFFSETFROM:-0400
TZOFFSETTO:-0500
TZNAME:EST
END:STANDARD
END:VTIMEZONE
END:VCALENDAR