BEGIN:VCALENDAR
VERSION:2.0
PRODID:-//wp-events-plugin.com//7.2.3.1//EN
TZID:America/New_York
X-WR-TIMEZONE:America/New_York
BEGIN:VEVENT
UID:58@priority2work.org
DTSTART;TZID=America/New_York:20260805T083000
DTEND;TZID=America/New_York:20260805T100000
DTSTAMP:20260103T125711Z
URL:https://priority2work.org/events/coffee-with-hope-virtual-1st-wed-each
 -month-2026-2026-08-05/
SUMMARY:Coffee with HOPE Virtual- 1st Wed 8:30am 2026
DESCRIPTION:Coffee with HOPE will provide you with a great opportunity to n
 etwork in a non-threatening\, ad-hoc manner with other job seekers and a s
 mall group of Priority2Work board members and volunteers.  It is held on 
 the 1st Wednesday of each month in the morning and the 3rd Thursday in the
  evening.  The agenda is open forum for job seekers to share experiences\
 , ask for advice\, gather ideas\, and support others in their search.\nPle
 ase pre-Register using the link below. Select the date (or dates) to regis
 ter for:  https://us02web.zoom.us/meeting/register/yWN4vIcRSOK9re-j-si75
 A\n&nbsp\;
CATEGORIES:COFFEE WITH HOPE
LOCATION:Virtual\, online\, zoom\, pa\, United States
X-APPLE-STRUCTURED-LOCATION;VALUE=URI;X-ADDRESS=online\, zoom\, pa\, United
  States;X-APPLE-RADIUS=100;X-TITLE=Virtual:geo:0,0
END:VEVENT
BEGIN:VTIMEZONE
TZID:America/New_York
X-LIC-LOCATION:America/New_York
BEGIN:DAYLIGHT
DTSTART:20260308T030000
TZOFFSETFROM:-0500
TZOFFSETTO:-0400
TZNAME:EDT
END:DAYLIGHT
END:VTIMEZONE
END:VCALENDAR