BEGIN:VCALENDAR
VERSION:2.0
PRODID:-//wp-events-plugin.com//7.2.3.1//EN
TZID:America/New_York
X-WR-TIMEZONE:America/New_York
BEGIN:VEVENT
UID:47@priority2work.org
DTSTART;TZID=America/New_York:20251218T190000
DTEND;TZID=America/New_York:20251218T203000
DTSTAMP:20250602T230119Z
URL:https://priority2work.org/events/coffee-with-hope-virtual-3rd-wed-each
 -month-2025-12-18/
SUMMARY:Coffee with HOPE Virtual- 3rd Thurs each month
DESCRIPTION:Coffee with HOPE will provide you with a great opportunity to n
 etwork in a non-threatening\, ad-hoc manner with other job seekers and a s
 mall group of Priority2Work board members and volunteers.  It is held on 
 the 1st Wednesday of each month in the morning and the 3rd Thursday in the
  evening.  The agenda is open forum for job seekers to share experiences\
 , ask for advice\, gather ideas\, and support others in their search.\nPle
 ase pre-Register using the link below for the month / day in question:\n6/
 19 PM: https://us02web.zoom.us/meeting/register/xHDPunlUT8K1MJ_6XYcoAQ\n\
 n7/17 PM: https://us02web.zoom.us/meeting/register/3EGtMDiSTVKlW0bVOthUmQ
 \n\n8/21 PM: https://us02web.zoom.us/meeting/register/jJTpESlBS2uec0enZe9
 lvw\n\n9/18 PM: https://us02web.zoom.us/meeting/register/CVHRZC8qQ3e9oD_T
 12QJ4w\n\n10/16 PM: https://us02web.zoom.us/meeting/register/8N5DJT_qRhuD
 62lYxfPnUA\n\n11/20 PM: https://us02web.zoom.us/meeting/register/m-pws6Wc
 SKGwg9OQ8F_s6w\n\n12/18 PM: https://us02web.zoom.us/meeting/register/WVlD
 QWgiRhCuOOGRBuUILw
CATEGORIES:COFFEE WITH HOPE
LOCATION:Virtual\, online\, zoom\, pa\, United States
X-APPLE-STRUCTURED-LOCATION;VALUE=URI;X-ADDRESS=online\, zoom\, pa\, United
  States;X-APPLE-RADIUS=100;X-TITLE=Virtual:geo:0,0
END:VEVENT
BEGIN:VTIMEZONE
TZID:America/New_York
X-LIC-LOCATION:America/New_York
BEGIN:STANDARD
DTSTART:20251102T010000
TZOFFSETFROM:-0400
TZOFFSETTO:-0500
TZNAME:EST
END:STANDARD
END:VTIMEZONE
END:VCALENDAR