BEGIN:VCALENDAR
VERSION:2.0
PRODID:-//wp-events-plugin.com//7.2.3.1//EN
TZID:America/New_York
X-WR-TIMEZONE:America/New_York
BEGIN:VEVENT
UID:103@priority2work.org
DTSTART;TZID=America/New_York:20260428T173000
DTEND;TZID=America/New_York:20260428T193000
DTSTAMP:20260407T195638Z
URL:https://priority2work.org/events/networking-after-hours-walnut-grille/
SUMMARY:Networking After Hours @Walnut Grille
DESCRIPTION:Don’t miss out on the Priority2Work Networking After Hours\, 
 5:30-7:30PM Tuesday\, April 28th at Walnut Grill - Wexford\, 12599 Perry H
 ighway\, Pine Township\, PA 15090.\n\nCatch up and connect with current an
 d former participants and supporters at this relaxing in-person event. Re-
 engage and celebrate the beginning of patio season! Free appetizers with c
 ash bar. It's free but space is limited so sign-up now @ https://www.even
 tbrite.com/e/priority2work-networking-after-hours-tickets-1986860511274\n\
 n#Priority2Work #NetworkingEvent #AfterHours #ConnectAndGrow #April28
CATEGORIES:Career Connections Networking
END:VEVENT
BEGIN:VTIMEZONE
TZID:America/New_York
X-LIC-LOCATION:America/New_York
BEGIN:DAYLIGHT
DTSTART:20260308T030000
TZOFFSETFROM:-0500
TZOFFSETTO:-0400
TZNAME:EDT
END:DAYLIGHT
END:VTIMEZONE
END:VCALENDAR