BEGIN:VCALENDAR
VERSION:2.0
PRODID:-//wp-events-plugin.com//7.2.3.1//EN
TZID:America/New_York
X-WR-TIMEZONE:America/New_York
BEGIN:VEVENT
UID:18@priority2work.org
DTSTART;TZID=America/New_York:20250617T190000
DTEND;TZID=America/New_York:20250617T203000
DTSTAMP:20250602T231141Z
URL:https://priority2work.org/events/skills-workshops-monthly-2025-06-17/
SUMMARY:Skills Workshops- Monthly
DESCRIPTION:Priority2Work Skills Workshops are held the 3rd Tuesday of ever
 y month and provide a recurring assortment of valuable skills to support y
 our job search.  Whether you are a novice or a professional\, these topic
 s are always valuable to be learned or used as a refresher.\nThe agenda fo
 r the year is below including the links to register for each session.  P
 LEASE REGISTER for each session you plan to attend!  You will receive an 
 email with a link to the session and a link to add it to your calendar.\nI
 f you have any questions\, please reach out to office@priority2work.org.\n
 21-Jan: How to work with Recruiters\, guest speaker Mark Toscano.  https:
 //us02web.zoom.us/meeting/register/tZwpfu6gqz8qHdM9enB2HytZDxcBLFaaPRIR\n
  18-Feb: PARS/STARS in Resumes and Interviews\, guest speaker Jeff Longmo
 re.  https://us02web.zoom.us/meeting/register/tZYtcOyuqzMvGN3pUYUaw-9INIe
 YvZM_0plE\n 18-Mar: Ageism\, guest speaker Larry Gorski.  https://us02w
 eb.zoom.us/meeting/register/tZUod-itqD8uGdVoAo6Y5P5r6nUbXi6DZG4q\n 15-Apr
 : LinkedIn\, guest speaker Amylyn Kyler.  https://us02web.zoom.us/meeting
 /register/tZEtcu2qpzwsGNy7y58A9WUbK0_AXInDfxXp\n 20-May: Resumes and Cove
 r letters\, guest speaker Barry Wolfe.  https://us02web.zoom.us/meeting/r
 egister/tZUqf--rpjsqHtS5ZvmsHxcK5NxwT6_Cy4a1\n 17-Jun: Being Found Online
 : A Talent Sourcer’s Perspective and Challenge\, guest speaker Gary M. G
 iallonardo.  https://us02web.zoom.us/meeting/register/tZ0pc-qopjwrGdzWLr
 xErMuhg9G1wXT33a2l\n 15-Jul: Organize your job search to get more network
 ing contacts\, guest speaker Cheryl McNamara.  https://us02web.zoom.us/me
 eting/register/tZwtc-6oqzooHdOF5A3Slvag3GO27u_E8itV\n 19-Aug: Prepare for
  success w/your job interview &amp\; follow up after\, guest speaker Amyly
 n Kyler.  https://us02web.zoom.us/meeting/register/tZAqdOqvqT4jGtEVQE-9i
 is9QydGDzi4LHyn\n 16-Sep: Ask Me Anything about Your Search\, guest speak
 er Virginia Franco. https://us02web.zoom.us/meeting/register/tZwvcu6grj0rG
 NIuVi_H7Py7AfI3H_kdh_wY\n 21-Oct: Job Search Process\, guest speaker Bria
 n McGuire.   https://us02web.zoom.us/meeting/register/tZAodeyuqTojEtebAu
 cWHNJrXy-2NhL2i8XS\n 18-Nov: Remain Dollar Positive during Job Search\, g
 uest speaker Vic Conrad.   https://us02web.zoom.us/meeting/register/tZ0p
 dOuvqT8tHdEu71lyE_0t_VoTqE_iIuFn\n 16-Dec: Networking &amp\; Business Car
 ds\, guest speaker Jack Burt.  https://us02web.zoom.us/meeting/register/t
 ZMvfuiprz8oHtdAai8xWAF3gYxfOjapEgYM
CATEGORIES:Skills Workshops
LOCATION:Virtual\, online\, zoom\, pa\, United States
X-APPLE-STRUCTURED-LOCATION;VALUE=URI;X-ADDRESS=online\, zoom\, pa\, United
  States;X-APPLE-RADIUS=100;X-TITLE=Virtual:geo:0,0
END:VEVENT
BEGIN:VTIMEZONE
TZID:America/New_York
X-LIC-LOCATION:America/New_York
BEGIN:DAYLIGHT
DTSTART:20250309T030000
TZOFFSETFROM:-0500
TZOFFSETTO:-0400
TZNAME:EDT
END:DAYLIGHT
END:VTIMEZONE
END:VCALENDAR