BEGIN:VCALENDAR
VERSION:2.0
PRODID:-//wp-events-plugin.com//7.2.3.1//EN
TZID:America/New_York
X-WR-TIMEZONE:America/New_York
BEGIN:VEVENT
UID:93@priority2work.org
DTSTART;TZID=America/New_York:20260421T190000
DTEND;TZID=America/New_York:20260421T203000
DTSTAMP:20260125T001226Z
URL:https://priority2work.org/events/skills-workshops-monthly-3rd-tues-202
 6-2026-04-21/
SUMMARY:Skills Workshops- Monthly 3rd Tues 7pm 2026
DESCRIPTION:Priority2Work Skills Workshops are held the 3rd Tuesday of ever
 y month and provide a recurring assortment of valuable skills to support y
 our job search.  Whether you are a novice or a professional\, these topic
 s are always valuable to be learned or used as a refresher.\nThe agenda fo
 r the year is below including the links to register for each session.  P
 LEASE REGISTER for each session you plan to attend!  You will receive an 
 email with a link to the session and a link to add it to your calendar.\n\
 n\n 	January 20\, Accountability Groups by Jeff Krantz: https://us02web.zo
 om.us/meeting/register/hoJkpinzRNSFtnGGwu3zng#/registration\n 	February 17
 \, PARs/STARs in Resumes and Interviews by Jeff Longmore: https://us02web.
 zoom.us/meeting/register/PCg9XiUhQ6KGZL59MF5Tdw#/registration\n 	March 17\
 , LinkedIn by Amylyn Kyler: https://us02web.zoom.us/meeting/register/ze3-V
 j_FSo2BLbWFvTctZA#/registration\n 	April 21\, How to Work with Recruiters
  by Mark Toscano:  https://us02web.zoom.us/meeting/register/VgUWlFuaT72na
 ivlRbAerw#/registration\n 	May 19\, Organize your Job Search to get more n
 etworking contacts by Cheryl McNamara: https://us02web.zoom.us/meeting/reg
 ister/kkmdIelORluDJH5TufOA1A#/registration\n 	June 16\, Resumes and Cover 
 letters by Barry Wolfe: https://us02web.zoom.us/meeting/register/BcJAW8chT
 JKWRWb8NSJmuA#/registration\n 	July 21\, Applications of AI in Job Search 
 by Doug Pecone: https://us02web.zoom.us/meeting/register/SLyXgs-nSRaAT7sI6
 Ms3cw#/registration\n 	August 18\, Prepare for Success w/your job intervie
 w &amp\; follow up after by Amylyn Kyler: https://us02web.zoom.us/meeting/
 register/MY9sVWunSX-5R7LzaGboMQ#/registration\n 	September 15\, Being Foun
 d Online: A Talent Sourcer Perspective and Challenge by Gary M. Giallonard
 o: https://us02web.zoom.us/meeting/register/r2hEJ_n-Qz-7TrKhnbV2tA#/regist
 ration\n 	October 20\, Job Search Process by Brian McGuire: https://us02we
 b.zoom.us/meeting/register/oKtLOy62RXaTBp_iedCzcA#/registration\n 	Novembe
 r 17\, Remain Dollar Positive during Job Search by Vic Conrad: https://us0
 2web.zoom.us/meeting/register/recDVQV4S9CbN4OZDN0aWw#/registration\n 	Dece
 mber 15\, Networking &amp\; Business Cards by Jack Burt: https://us02web.z
 oom.us/meeting/register/7jo6IRkgTnKWUnQyjZ_u6Q#/registration\n
CATEGORIES:Skills Workshops
LOCATION:Virtual\, online\, zoom\, pa\, United States
X-APPLE-STRUCTURED-LOCATION;VALUE=URI;X-ADDRESS=online\, zoom\, pa\, United
  States;X-APPLE-RADIUS=100;X-TITLE=Virtual:geo:0,0
END:VEVENT
BEGIN:VTIMEZONE
TZID:America/New_York
X-LIC-LOCATION:America/New_York
BEGIN:DAYLIGHT
DTSTART:20260308T030000
TZOFFSETFROM:-0500
TZOFFSETTO:-0400
TZNAME:EDT
END:DAYLIGHT
END:VTIMEZONE
END:VCALENDAR